BEGIN:VCALENDAR
VERSION:2.0
PRODID:-//Karen Organization of Minnesota - ECPv6.15.20//NONSGML v1.0//EN
CALSCALE:GREGORIAN
METHOD:PUBLISH
X-ORIGINAL-URL:https://mnkaren.org
X-WR-CALDESC:Events for Karen Organization of Minnesota
REFRESH-INTERVAL;VALUE=DURATION:PT1H
X-Robots-Tag:noindex
X-PUBLISHED-TTL:PT1H
BEGIN:VTIMEZONE
TZID:America/Chicago
BEGIN:DAYLIGHT
TZOFFSETFROM:-0600
TZOFFSETTO:-0500
TZNAME:CDT
DTSTART:20180311T080000
END:DAYLIGHT
BEGIN:STANDARD
TZOFFSETFROM:-0500
TZOFFSETTO:-0600
TZNAME:CST
DTSTART:20181104T070000
END:STANDARD
BEGIN:DAYLIGHT
TZOFFSETFROM:-0600
TZOFFSETTO:-0500
TZNAME:CDT
DTSTART:20190310T080000
END:DAYLIGHT
BEGIN:STANDARD
TZOFFSETFROM:-0500
TZOFFSETTO:-0600
TZNAME:CST
DTSTART:20191103T070000
END:STANDARD
BEGIN:DAYLIGHT
TZOFFSETFROM:-0600
TZOFFSETTO:-0500
TZNAME:CDT
DTSTART:20200308T080000
END:DAYLIGHT
BEGIN:STANDARD
TZOFFSETFROM:-0500
TZOFFSETTO:-0600
TZNAME:CST
DTSTART:20201101T070000
END:STANDARD
END:VTIMEZONE
BEGIN:VTIMEZONE
TZID:America/Chicago
BEGIN:DAYLIGHT
TZOFFSETFROM:-0600
TZOFFSETTO:-0500
TZNAME:CDT
DTSTART:20160313T080000
END:DAYLIGHT
BEGIN:STANDARD
TZOFFSETFROM:-0500
TZOFFSETTO:-0600
TZNAME:CST
DTSTART:20161106T070000
END:STANDARD
BEGIN:DAYLIGHT
TZOFFSETFROM:-0600
TZOFFSETTO:-0500
TZNAME:CDT
DTSTART:20170312T080000
END:DAYLIGHT
BEGIN:STANDARD
TZOFFSETFROM:-0500
TZOFFSETTO:-0600
TZNAME:CST
DTSTART:20171105T070000
END:STANDARD
BEGIN:DAYLIGHT
TZOFFSETFROM:-0600
TZOFFSETTO:-0500
TZNAME:CDT
DTSTART:20180311T080000
END:DAYLIGHT
BEGIN:STANDARD
TZOFFSETFROM:-0500
TZOFFSETTO:-0600
TZNAME:CST
DTSTART:20181104T070000
END:STANDARD
BEGIN:DAYLIGHT
TZOFFSETFROM:-0600
TZOFFSETTO:-0500
TZNAME:CDT
DTSTART:20190310T080000
END:DAYLIGHT
BEGIN:STANDARD
TZOFFSETFROM:-0500
TZOFFSETTO:-0600
TZNAME:CST
DTSTART:20191103T070000
END:STANDARD
END:VTIMEZONE
BEGIN:VEVENT
DTSTART;TZID=America/Chicago:20191109T150000
DTEND;TZID=America/Chicago:20191109T180000
DTSTAMP:20260421T033143
CREATED:20191029T193820Z
LAST-MODIFIED:20191029T194018Z
UID:10000210-1573311600-1573322400@mnkaren.org
SUMMARY:The Work of the Karen Weavers' Circle
DESCRIPTION:Join us at the East Side Freedom Library to view our weavers demonstrate traditional Karen back-strap weaving! If you have wanted to experience the weaving process\, but never had a chance this is a great opportunity! There will be items available for purchase as well as refreshments. \nKaren women\, Aye Lwai (cq)\, left\, and Rosie Say talk while Lwai weaves a bag at the East Side Freedom Library in St. Paul on Wednesday\, Nov. 9\, 2016. In Burma/Myanmar women and men would weave intricately patterned cloth on backstrap looms\, which would be used to make sarongs\, shirts and other clothing. (Pioneer Press: Jean Pieri)\n  \n  \n  \nThis activity is made possible by the voters of Minnesota through the Minnesota State Arts Board\, thanks to a legislative appropriation from the arts and cultural heritage fund.
URL:https://mnkaren.org/event/the-work-of-the-karen-weavers-circle/
LOCATION:East Side Freedom Library\, 1105 Greenbrier St\, St. Paul\, MN\, 55106\, United States
GEO:44.9745018;-93.0714019
X-APPLE-STRUCTURED-LOCATION;VALUE=URI;X-ADDRESS=East Side Freedom Library 1105 Greenbrier St St. Paul MN 55106 United States;X-APPLE-RADIUS=500;X-TITLE=1105 Greenbrier St:geo:-93.0714019,44.9745018
END:VEVENT
BEGIN:VEVENT
DTSTART;TZID=America/Chicago:20180822T150000
DTEND;TZID=America/Chicago:20180822T200000
DTSTAMP:20260421T033143
CREATED:20180801T204542Z
LAST-MODIFIED:20180816T134934Z
UID:10000194-1534950000-1534968000@mnkaren.org
SUMMARY:Karen Student Weaving Showcase
DESCRIPTION:With the generous support of the Minnesota State Arts Board\, this summer the Karen women’s weaving circle has been mentoring a dynamic group of high school students at the East Side Freedom Library. \nCome and see the beautiful work they have done! Come and meet the students and their teachers. \nThere will be refreshments and hand woven cloth and clothing to buy. \n \n  \nThis activity is made possible by the voters of Minnesota through a grant from the Minnesota State Arts Board\, thanks to a legislative appropriation from the arts and cultural heritage fund. \n 
URL:https://mnkaren.org/event/karen-student-weaving-showcase/
LOCATION:East Side Freedom Library\, 1105 Greenbrier St\, St. Paul\, MN\, 55106\, United States
GEO:44.9745018;-93.0714019
X-APPLE-STRUCTURED-LOCATION;VALUE=URI;X-ADDRESS=East Side Freedom Library 1105 Greenbrier St St. Paul MN 55106 United States;X-APPLE-RADIUS=500;X-TITLE=1105 Greenbrier St:geo:-93.0714019,44.9745018
END:VEVENT
BEGIN:VEVENT
DTSTART;TZID=America/Chicago:20180429T120000
DTEND;TZID=America/Chicago:20180429T170000
DTSTAMP:20260421T033143
CREATED:20180402T154043Z
LAST-MODIFIED:20180402T154658Z
UID:10000164-1525003200-1525021200@mnkaren.org
SUMMARY:Karen Weaving Circle at the Spring St. Paul Art Crawl
DESCRIPTION:Join us at the East Side Freedom Library the weekend of April 27th to see women from our Karen Weaving Circle demonstrate traditional Karen back-strap weaving\, and learn about Karen culture! \nSome of their handmade pieces will be on display and available for purchase. \nDon’t miss out on this opportunity! \nOn Friday evening\, April 27th\, there will be live music provided by the Langer’s Ball. \nTo learn more visit the St. Paul Art Crawl Event Page on the East Side Freedom Library Website .
URL:https://mnkaren.org/event/karen-weaving-circle-at-the-spring-st-paul-art-crawl/2018-04-29/
LOCATION:East Side Freedom Library\, 1105 Greenbrier St\, St. Paul\, MN\, 55106\, United States
GEO:44.9745018;-93.0714019
X-APPLE-STRUCTURED-LOCATION;VALUE=URI;X-ADDRESS=East Side Freedom Library 1105 Greenbrier St St. Paul MN 55106 United States;X-APPLE-RADIUS=500;X-TITLE=1105 Greenbrier St:geo:-93.0714019,44.9745018
END:VEVENT
BEGIN:VEVENT
DTSTART;TZID=America/Chicago:20180428T120000
DTEND;TZID=America/Chicago:20180428T200000
DTSTAMP:20260421T033143
CREATED:20180402T154043Z
LAST-MODIFIED:20180402T154658Z
UID:10000163-1524916800-1524945600@mnkaren.org
SUMMARY:Karen Weaving Circle at the Spring St. Paul Art Crawl
DESCRIPTION:Join us at the East Side Freedom Library the weekend of April 27th to see women from our Karen Weaving Circle demonstrate traditional Karen back-strap weaving\, and learn about Karen culture! \nSome of their handmade pieces will be on display and available for purchase. \nDon’t miss out on this opportunity! \nOn Friday evening\, April 27th\, there will be live music provided by the Langer’s Ball. \nTo learn more visit the St. Paul Art Crawl Event Page on the East Side Freedom Library Website .
URL:https://mnkaren.org/event/karen-weaving-circle-at-the-spring-st-paul-art-crawl/2018-04-28/
LOCATION:East Side Freedom Library\, 1105 Greenbrier St\, St. Paul\, MN\, 55106\, United States
GEO:44.9745018;-93.0714019
X-APPLE-STRUCTURED-LOCATION;VALUE=URI;X-ADDRESS=East Side Freedom Library 1105 Greenbrier St St. Paul MN 55106 United States;X-APPLE-RADIUS=500;X-TITLE=1105 Greenbrier St:geo:-93.0714019,44.9745018
END:VEVENT
BEGIN:VEVENT
DTSTART;TZID=America/Chicago:20180427T180000
DTEND;TZID=America/Chicago:20180427T220000
DTSTAMP:20260421T033143
CREATED:20180402T154043Z
LAST-MODIFIED:20180402T154658Z
UID:10000162-1524852000-1524866400@mnkaren.org
SUMMARY:Karen Weaving Circle at the Spring St. Paul Art Crawl
DESCRIPTION:Join us at the East Side Freedom Library the weekend of April 27th to see women from our Karen Weaving Circle demonstrate traditional Karen back-strap weaving\, and learn about Karen culture! \nSome of their handmade pieces will be on display and available for purchase. \nDon’t miss out on this opportunity! \nOn Friday evening\, April 27th\, there will be live music provided by the Langer’s Ball. \nTo learn more visit the St. Paul Art Crawl Event Page on the East Side Freedom Library Website .
URL:https://mnkaren.org/event/karen-weaving-circle-at-the-spring-st-paul-art-crawl/2018-04-27/
LOCATION:East Side Freedom Library\, 1105 Greenbrier St\, St. Paul\, MN\, 55106\, United States
GEO:44.9745018;-93.0714019
X-APPLE-STRUCTURED-LOCATION;VALUE=URI;X-ADDRESS=East Side Freedom Library 1105 Greenbrier St St. Paul MN 55106 United States;X-APPLE-RADIUS=500;X-TITLE=1105 Greenbrier St:geo:-93.0714019,44.9745018
END:VEVENT
BEGIN:VEVENT
DTSTART;TZID=America/Chicago:20171129T180000
DTEND;TZID=America/Chicago:20171129T210000
DTSTAMP:20260421T033143
CREATED:20171023T161002Z
LAST-MODIFIED:20171122T235120Z
UID:10000149-1511978400-1511989200@mnkaren.org
SUMMARY:2017 Karen Women's Weaving Project: A Closing Celebration
DESCRIPTION:KOM and The East Side Freedom Library invite you to “2017 Karen Women’s Weaving Project: A Closing Celebration” on Wednesday\, November 29 @ 6:00PM–9:00PM. \nJoin us for the closing celebration of the 2017 Karen women’s weaving project\, in honor of our late Weaving Coordinator\, Paw Boh Htoo. \nThe weavers will demonstrate their techniques and there will be beautiful cloth items to buy — perfect for holiday presents! \nYouth who participated in classes taught by the women weavers over the summer will also be there to present their projects and completed pieces. \nAt 7pm\, we will gather for a presentation in honor of Paw Htoo. \nThere will be refreshments\, stories\, and art. \nFree and Open to All.
URL:https://mnkaren.org/event/2017-karen-womens-weaving-project-closing-celebration/
LOCATION:East Side Freedom Library\, 1105 Greenbrier St\, St. Paul\, MN\, 55106\, United States
GEO:44.9745018;-93.0714019
X-APPLE-STRUCTURED-LOCATION;VALUE=URI;X-ADDRESS=East Side Freedom Library 1105 Greenbrier St St. Paul MN 55106 United States;X-APPLE-RADIUS=500;X-TITLE=1105 Greenbrier St:geo:-93.0714019,44.9745018
END:VEVENT
BEGIN:VEVENT
DTSTART;TZID=America/Chicago:20171013T180000
DTEND;TZID=America/Chicago:20171015T170000
DTSTAMP:20260421T033143
CREATED:20170825T191030Z
LAST-MODIFIED:20171003T184859Z
UID:10000147-1507917600-1508086800@mnkaren.org
SUMMARY:Karen Weaving Circle - Art Crawl
DESCRIPTION: 
URL:https://mnkaren.org/event/karen-weaving-circle-art-crawl/
LOCATION:East Side Freedom Library\, 1105 Greenbrier St\, St. Paul\, MN\, 55106\, United States
GEO:44.9745018;-93.0714019
X-APPLE-STRUCTURED-LOCATION;VALUE=URI;X-ADDRESS=East Side Freedom Library 1105 Greenbrier St St. Paul MN 55106 United States;X-APPLE-RADIUS=500;X-TITLE=1105 Greenbrier St:geo:-93.0714019,44.9745018
END:VEVENT
BEGIN:VEVENT
DTSTART;VALUE=DATE:20170428
DTEND;VALUE=DATE:20170501
DTSTAMP:20260421T033143
CREATED:20170424T174142Z
LAST-MODIFIED:20170426T192440Z
UID:10000129-1493337600-1493596799@mnkaren.org
SUMMARY:Karen Weaving Circle at Saint Paul Art Crawl
DESCRIPTION:On April 28-30\, the Karen Weaving Circle has the opportunity to demonstrate and sell their traditional weaving at the Saint Paul Art Crawl at the East Side Freedom Library. Stop by to show your support for the Karen Weaving Circle and purchase their weaving for yourself or as a gift for someone! The weavers will be at the library the following days and times. \nFriday\, April 28: 6:00-10:00pm\nSaturday\, April 29: 12:00-8:00pm\nSunday\, April 30: 12:00-5:00pm
URL:https://mnkaren.org/event/karen-weaving-circle-at-saint-paul-art-crawl/
LOCATION:East Side Freedom Library\, 1105 Greenbrier St\, St. Paul\, MN\, 55106\, United States
GEO:44.9745018;-93.0714019
X-APPLE-STRUCTURED-LOCATION;VALUE=URI;X-ADDRESS=East Side Freedom Library 1105 Greenbrier St St. Paul MN 55106 United States;X-APPLE-RADIUS=500;X-TITLE=1105 Greenbrier St:geo:-93.0714019,44.9745018
END:VEVENT
END:VCALENDAR