BEGIN:VCALENDAR
VERSION:2.0
PRODID:-//Karen Organization of Minnesota - ECPv6.15.20//NONSGML v1.0//EN
CALSCALE:GREGORIAN
METHOD:PUBLISH
X-WR-CALNAME:Karen Organization of Minnesota
X-ORIGINAL-URL:https://mnkaren.org
X-WR-CALDESC:Events for Karen Organization of Minnesota
REFRESH-INTERVAL;VALUE=DURATION:PT1H
X-Robots-Tag:noindex
X-PUBLISHED-TTL:PT1H
BEGIN:VTIMEZONE
TZID:America/Chicago
BEGIN:DAYLIGHT
TZOFFSETFROM:-0600
TZOFFSETTO:-0500
TZNAME:CDT
DTSTART:20230312T080000
END:DAYLIGHT
BEGIN:STANDARD
TZOFFSETFROM:-0500
TZOFFSETTO:-0600
TZNAME:CST
DTSTART:20231105T070000
END:STANDARD
BEGIN:DAYLIGHT
TZOFFSETFROM:-0600
TZOFFSETTO:-0500
TZNAME:CDT
DTSTART:20240310T080000
END:DAYLIGHT
BEGIN:STANDARD
TZOFFSETFROM:-0500
TZOFFSETTO:-0600
TZNAME:CST
DTSTART:20241103T070000
END:STANDARD
BEGIN:DAYLIGHT
TZOFFSETFROM:-0600
TZOFFSETTO:-0500
TZNAME:CDT
DTSTART:20250309T080000
END:DAYLIGHT
BEGIN:STANDARD
TZOFFSETFROM:-0500
TZOFFSETTO:-0600
TZNAME:CST
DTSTART:20251102T070000
END:STANDARD
END:VTIMEZONE
BEGIN:VEVENT
DTSTART;TZID=America/Chicago:20240809T093000
DTEND;TZID=America/Chicago:20240809T103000
DTSTAMP:20260425T202708
CREATED:20240731T212536Z
LAST-MODIFIED:20240731T212536Z
UID:10000301-1723195800-1723199400@mnkaren.org
SUMMARY:Diploma Programs Info Sessions
DESCRIPTION:We’re thrilled to announce upcoming information sessions for TWO dynamic adult diploma programs designed for English language learners:\n1️⃣ Apprentice and Manufacturing Ready: Explore hands-on training in trades like carpentry\, highway heavy\, and more while! This diploma program is designed for people who want to begin an apprenticeship in a trade and have not yet earned a U.S. High School Diploma. \n2️⃣ Professional Leadership Program: Develop your computer skills and leadership competencies that you will use in jobs such as education paraprofessional or office administrative work. \nBoth programs are FREE and will be completed in one year\, from September 2024 through May 2025. Classes meet Monday through Friday at Roseville Adult Learning Center. \nTo learn more about these programs\, join us at an upcoming info session:\nDates: Aug 9\, Aug 23\nTime: 9:30 to 10:30 a.m.\nLocation: Join at the Zoom link below or come to Roseville Adult Learning Center to meet in person.\nZoom link for info session here \nOur address is:\nAŋpétu Téča Education Center\, Room 254\n1910 County Road B West\nRoseville\, MN 55113 \nDon’t miss this chance to meet our staff\, learn about program specifics\, and discover how we can help you achieve your career goals. \n\nThe State of Minnesota Department of Employment and Economic Development (DEED) funded (or funded in part) this training through a grant. The grant recipient created this training. DEED does not endorse this publicity or training or make guarantees\, warranties\, or assurances of any kind\, express or implied\, regarding the accuracy\, completeness\, timeliness\, usefulness\, adequacy\, continued availability or ownership of the information herein or elsewhere.
URL:https://mnkaren.org/event/diploma-programs-info-sessions/2024-08-09/
LOCATION:Aŋpétu Téča Education Center\, County B Road West\, Roseville\, MN\, 55113\, United States
CATEGORIES:Program Info
GEO:45.0049815;-93.1801093
X-APPLE-STRUCTURED-LOCATION;VALUE=URI;X-ADDRESS=Aŋpétu Téča Education Center County B Road West Roseville MN 55113 United States;X-APPLE-RADIUS=500;X-TITLE=County B Road West:geo:-93.1801093,45.0049815
END:VEVENT
END:VCALENDAR